BEGIN:VCALENDAR
VERSION:2.0
PRODID:-//Intand Corporation//Tandem//EN
METHOD:PUBLISH
BEGIN:VEVENT
DTSTAMP:20260423T011410Z
DTSTART:20200617T140000Z
DTEND:20200617T143000Z
TRANSP:TRANSPARENT
PRIORITY:0
SUMMARY:Police Commission Meeting (Public)
LOCATION:Merrillville Town Hall
DESCRIPTION:Location:\nMerrillville Town Hall\n\n
URL;VALUE=URI:http://townofmerrillville.tandem.co/index.php?type=view&acti
 on=event&id=1334
CREATED:20200612T142959Z
LAST-MODIFIED:20200612T142959Z
UID:event-1334-townofmerrillville@intand.com
END:VEVENT
END:VCALENDAR
